BEGIN:VCALENDAR
VERSION:2.0
PRODID:-//Robert Plane - ECPv6.15.20//NONSGML v1.0//EN
CALSCALE:GREGORIAN
METHOD:PUBLISH
X-ORIGINAL-URL:https://www.robertplane.com
X-WR-CALDESC:Events for Robert Plane
REFRESH-INTERVAL;VALUE=DURATION:PT1H
X-Robots-Tag:noindex
X-PUBLISHED-TTL:PT1H
BEGIN:VTIMEZONE
TZID:Europe/London
BEGIN:DAYLIGHT
TZOFFSETFROM:+0000
TZOFFSETTO:+0100
TZNAME:BST
DTSTART:20250330T010000
END:DAYLIGHT
BEGIN:STANDARD
TZOFFSETFROM:+0100
TZOFFSETTO:+0000
TZNAME:GMT
DTSTART:20251026T010000
END:STANDARD
BEGIN:DAYLIGHT
TZOFFSETFROM:+0000
TZOFFSETTO:+0100
TZNAME:BST
DTSTART:20260329T010000
END:DAYLIGHT
BEGIN:STANDARD
TZOFFSETFROM:+0100
TZOFFSETTO:+0000
TZNAME:GMT
DTSTART:20261025T010000
END:STANDARD
BEGIN:DAYLIGHT
TZOFFSETFROM:+0000
TZOFFSETTO:+0100
TZNAME:BST
DTSTART:20270328T010000
END:DAYLIGHT
BEGIN:STANDARD
TZOFFSETFROM:+0100
TZOFFSETTO:+0000
TZNAME:GMT
DTSTART:20271031T010000
END:STANDARD
END:VTIMEZONE
BEGIN:VEVENT
DTSTART;TZID=Europe/London:20260723T190000
DTEND;TZID=Europe/London:20260723T190000
DTSTAMP:20260423T094247
CREATED:20260410T222525Z
LAST-MODIFIED:20260422T124023Z
UID:25465-1784833200-1784833200@www.robertplane.com
SUMMARY:Corbridge Chamber Music Festival: Northumberland
DESCRIPTION:Festival Curtain RaiserThe Gould Piano Trio launch their Corbridge Festival Schumann Trio cycle with his first tempestuous essay in the genre. After quirky contributions from a youthful Benjamin Britten and Jamaican British composer Eleanor Alberga we return to the world of high Romanticism with Brahms at the peak of his powers. \nBoldComposerBenjamin Britten: Three DivertimentiRobert Schumann: Piano Trio no. 1 in D minor\, op. 63Eleanor Alberga: Duo from Dancing with the ShadowJohannes Brahms: String Sextet in G major\, op. 36
URL:https://www.robertplane.com/concert/corbridge-chamber-music-festival-northumberland-22/
LOCATION:St Andrew’s Church\, Corbridge\, Market Place\, Corbridge\, Northumberland\, NE45 5AW\, England
CATEGORIES:Gould Piano Trio,Robert Plane,Robert Plane and the Gould Piano Trio
ATTACH;FMTTYPE=image/jpeg:https://www.robertplane.com/wp-content/uploads/2025/02/Robert_Plane_Gould_Piano_Trio_ref_corbridge_28_74_please_credit_Matthew_Johnson_sm-NMCmV6.tmp_.jpg
ORGANIZER;CN="Corbridge Chamber Music Festival":MAILTO:boxoffice@queenshall.co.uk
END:VEVENT
BEGIN:VEVENT
DTSTART;TZID=Europe/London:20260724T193000
DTEND;TZID=Europe/London:20260724T193000
DTSTAMP:20260423T094247
CREATED:20260410T222526Z
LAST-MODIFIED:20260422T124024Z
UID:25466-1784921400-1784921400@www.robertplane.com
SUMMARY:Corbridge Chamber Music Festival: Northumberland
DESCRIPTION:For the End of Time \nMessiaen Quartet for the End of Time The Gould Trio and Robert Plane have been playing Messiaen’s monumental quartet together for over thirty years. Don’t miss this opportunity to marvel at Messiaen’s kaleidoscopic creation\, today enhanced by the words of one of its most ardent admirers\, poet Michael Simmons Roberts. \nOlivier Messiaen: Quartet for the End of Time
URL:https://www.robertplane.com/concert/corbridge-chamber-music-festival-northumberland-23/
LOCATION:St Andrew’s Church\, Corbridge\, Market Place\, Corbridge\, Northumberland\, NE45 5AW\, England
CATEGORIES:Gould Piano Trio,Robert Plane,Robert Plane and the Gould Piano Trio
ATTACH;FMTTYPE=image/jpeg:https://www.robertplane.com/wp-content/uploads/2025/02/Robert_Plane_Gould_Piano_Trio_ref_corbridge_28_74_please_credit_Matthew_Johnson_sm-NMCmV6.tmp_.jpg
ORGANIZER;CN="Corbridge Chamber Music Festival":MAILTO:boxoffice@queenshall.co.uk
END:VEVENT
BEGIN:VEVENT
DTSTART;TZID=Europe/London:20260724T213000
DTEND;TZID=Europe/London:20260724T213000
DTSTAMP:20260423T094247
CREATED:20260410T222526Z
LAST-MODIFIED:20260422T124025Z
UID:25467-1784928600-1784928600@www.robertplane.com
SUMMARY:Corbridge Chamber Music Festival: Northumberland
DESCRIPTION:Under Nordic SkiesWe travel north to explore the music and the folk traditions of Scandinavia with the evocative strains of the Hardanger fiddle and a selection of Danish folk tunes\, as arranged by the Danish String Quartet. These sit alongside lesser-known works from the classical tradition in this night under the Northern Lights. \nNiels Gade: Fantasiestücke for Clarinet and Piano\, op.43Folk music performed on the Hardanger FiddleEdvard Grieg: Andante con Moto in C minor\, for Piano TrioDanish String Quartet arrangements
URL:https://www.robertplane.com/concert/corbridge-chamber-music-festival-northumberland-24/
LOCATION:St Andrew’s Church\, Corbridge\, Market Place\, Corbridge\, Northumberland\, NE45 5AW\, England
CATEGORIES:Gould Piano Trio,Robert Plane,Robert Plane and the Gould Piano Trio
ATTACH;FMTTYPE=image/jpeg:https://www.robertplane.com/wp-content/uploads/2026/04/Robert_Plane_Gould_Piano_Trio_ref_corbridge_28_77_please_credit_Matthew_Johnson_sm-m9MlhF.jpg
ORGANIZER;CN="Corbridge Chamber Music Festival":MAILTO:boxoffice@queenshall.co.uk
END:VEVENT
BEGIN:VEVENT
DTSTART;TZID=Europe/London:20260725T130000
DTEND;TZID=Europe/London:20260725T130000
DTSTAMP:20260423T094247
CREATED:20260410T222526Z
LAST-MODIFIED:20260422T124025Z
UID:25469-1784984400-1784984400@www.robertplane.com
SUMMARY:Corbridge Chamber Music Festival: Northumberland
DESCRIPTION:Once Upon a Time…Weber was renowned for his mastery of German Romantic Opera\, and the clarinettist certainly gets to play the diva in his ebullient quintet. Ravel’s enchanting set of fairy tales sets the scene. \nMaurice Ravel: Ma mère l’oyeCarl Maria von Weber: Clarinet Quintet\, op.34
URL:https://www.robertplane.com/concert/corbridge-chamber-music-festival-northumberland-25/
LOCATION:St Andrew’s Church\, Corbridge\, Market Place\, Corbridge\, Northumberland\, NE45 5AW\, England
CATEGORIES:Robert Plane
ATTACH;FMTTYPE=image/jpeg:https://www.robertplane.com/wp-content/uploads/2024/02/robert-plane_Ref_69_Please_credit_Jake_Morley-SMed-1-D3OHaO.tmp_.jpg
ORGANIZER;CN="Corbridge Chamber Music Festival":MAILTO:boxoffice@queenshall.co.uk
END:VEVENT
BEGIN:VEVENT
DTSTART;TZID=Europe/London:20260726T143000
DTEND;TZID=Europe/London:20260726T143000
DTSTAMP:20260423T094247
CREATED:20260410T222527Z
LAST-MODIFIED:20260422T124025Z
UID:25470-1785076200-1785076200@www.robertplane.com
SUMMARY:Corbridge Chamber Music Festival: Northumberland
DESCRIPTION:Flute Focus \nTarantelle Op.6 We shine the spotlight on the flute in this programme\, in a youthful Beethoven trio\, Messiaen’s evocation of a blackbird’s vocal prowess\, and dancing alongside a clarinet in Saint-Saens’ cure for a scorpion’s bite. \nLudwig van Beethoven: Serenade op. 25Rebecca Clarke: Prelude\, Allegro and PastoraleOlivier Messiaen: Le Merle NoirCamille Saint-Saëns: Tarantelle\, op. 6
URL:https://www.robertplane.com/concert/corbridge-chamber-music-festival-northumberland-26/
LOCATION:St Andrew’s Church\, Corbridge\, Market Place\, Corbridge\, Northumberland\, NE45 5AW\, England
CATEGORIES:Robert Plane
ATTACH;FMTTYPE=image/jpeg:https://www.robertplane.com/wp-content/uploads/2024/03/Robert-Plane_Ref_019_2019_Please_Credit_Sara_Porter_www.saraporterphotography.co_.uk-SMed-1-Y7xQZM.tmp_.jpg
ORGANIZER;CN="Corbridge Chamber Music Festival":MAILTO:boxoffice@queenshall.co.uk
END:VEVENT
BEGIN:VEVENT
DTSTART;TZID=Europe/London:20260726T190000
DTEND;TZID=Europe/London:20260726T190000
DTSTAMP:20260423T094247
CREATED:20260410T222527Z
LAST-MODIFIED:20260422T124025Z
UID:25471-1785092400-1785092400@www.robertplane.com
SUMMARY:Corbridge Chamber Music Festival: Northumberland
DESCRIPTION:Festival Finale \nThe sound of the cimbalom brings extra Eastern European spice to our closing concert. Hungarian composer György Kurtág celebrated his 100th birthday this February\, and his Tre Pezzi are typical of his evocative work. But Debussy also fell for the cimbalom’s quirky charm! The Gould Trio complete their Schumann cycle\, and Tchaikovsky finally sends us away bathed in Tuscan sunshine. \nClaude Debussy: La plus que lenteGyörgy Kurtág: Tre Pezzi for clarinet and cimbalom\, op. 38Robert Schumann: Piano Trio no. 3 in G minor\, op. 110Pyotr Il’yich Tchaikovsky: String Sextet in D minor\, op.70\, Souvenir de Florence
URL:https://www.robertplane.com/concert/corbridge-chamber-music-festival-northumberland-27/
LOCATION:St Andrew’s Church\, Corbridge\, Market Place\, Corbridge\, Northumberland\, NE45 5AW\, England
CATEGORIES:Gould Piano Trio,Robert Plane,Robert Plane and the Gould Piano Trio
ATTACH;FMTTYPE=image/jpeg:https://www.robertplane.com/wp-content/uploads/2025/02/Robert_Plane_Gould_Piano_Trio_ref_corbridge_28_74_please_credit_Matthew_Johnson_sm-NMCmV6.tmp_.jpg
ORGANIZER;CN="Corbridge Chamber Music Festival":MAILTO:boxoffice@queenshall.co.uk
END:VEVENT
END:VCALENDAR