BEGIN:VCALENDAR
VERSION:2.0
PRODID:-//Robert Plane - ECPv6.15.20//NONSGML v1.0//EN
CALSCALE:GREGORIAN
METHOD:PUBLISH
X-ORIGINAL-URL:https://www.robertplane.com
X-WR-CALDESC:Events for Robert Plane
REFRESH-INTERVAL;VALUE=DURATION:PT1H
X-Robots-Tag:noindex
X-PUBLISHED-TTL:PT1H
BEGIN:VTIMEZONE
TZID:Europe/London
BEGIN:DAYLIGHT
TZOFFSETFROM:+0000
TZOFFSETTO:+0100
TZNAME:BST
DTSTART:20220327T010000
END:DAYLIGHT
BEGIN:STANDARD
TZOFFSETFROM:+0100
TZOFFSETTO:+0000
TZNAME:GMT
DTSTART:20221030T010000
END:STANDARD
BEGIN:DAYLIGHT
TZOFFSETFROM:+0000
TZOFFSETTO:+0100
TZNAME:BST
DTSTART:20230326T010000
END:DAYLIGHT
BEGIN:STANDARD
TZOFFSETFROM:+0100
TZOFFSETTO:+0000
TZNAME:GMT
DTSTART:20231029T010000
END:STANDARD
BEGIN:DAYLIGHT
TZOFFSETFROM:+0000
TZOFFSETTO:+0100
TZNAME:BST
DTSTART:20240331T010000
END:DAYLIGHT
BEGIN:STANDARD
TZOFFSETFROM:+0100
TZOFFSETTO:+0000
TZNAME:GMT
DTSTART:20241027T010000
END:STANDARD
BEGIN:DAYLIGHT
TZOFFSETFROM:+0000
TZOFFSETTO:+0100
TZNAME:BST
DTSTART:20250330T010000
END:DAYLIGHT
BEGIN:STANDARD
TZOFFSETFROM:+0100
TZOFFSETTO:+0000
TZNAME:GMT
DTSTART:20251026T010000
END:STANDARD
END:VTIMEZONE
BEGIN:VEVENT
DTSTART;TZID=Europe/London:20240225T150000
DTEND;TZID=Europe/London:20240225T150000
DTSTAMP:20260420T142143
CREATED:20231201T150709Z
LAST-MODIFIED:20240225T192441Z
UID:15795-1708873200-1708873200@www.robertplane.com
SUMMARY:Marden House Concerts: Calne\, Wiltshire
DESCRIPTION:
URL:https://www.robertplane.com/concert/marden-house-concerts-calne-wiltshire/
LOCATION:The Marden House Centre\, New Road\, Calne\, Wiltshire\, SN11 0JJ\, England
ATTACH;FMTTYPE=image/jpeg:https://www.robertplane.com/wp-content/uploads/2023/11/Robert_Plane_and_Tim_Horton_Ref-029_please_credit_Andrei_Luca_Landscape-SMed-1-WUkd23.tmp_.jpg
END:VEVENT
BEGIN:VEVENT
DTSTART;TZID=Europe/London:20240212T193000
DTEND;TZID=Europe/London:20240212T193000
DTSTAMP:20260420T142143
CREATED:20231201T150708Z
LAST-MODIFIED:20240212T180041Z
UID:15794-1707766200-1707766200@www.robertplane.com
SUMMARY:Ripon Concerts: North Yorkshire
DESCRIPTION:Domenico Scarlatti\, arr. Dinu Lipatti: Sonatas\nSamuel Barber: Summer Music\, op. 31\nLuciano Berio: Opus Number Zoo\nInterval\nFranz Danzi: Quintet in B flat major\, op. 56\, no. 1\nValerie Coleman: Umoja\nCarl Nielsen: Wind Quintet\, op. 43
URL:https://www.robertplane.com/concert/ripon-concerts-north-yorkshire/
LOCATION:Holy Trinity Church\, Ripon\, Kirkby Road\, North Yorkshire\, HG4 2EY\, England
ATTACH;FMTTYPE=image/jpeg:https://www.robertplane.com/wp-content/uploads/2023/11/Ensemble_360_Adrian_Wilson_Naomi_Atherton_Robert_Plane_please_credit_Chris_Saunders-DQFsSU.tmp_.jpg
END:VEVENT
BEGIN:VEVENT
DTSTART;TZID=Europe/London:20240209T190000
DTEND;TZID=Europe/London:20240209T190000
DTSTAMP:20260420T142143
CREATED:20231201T150713Z
LAST-MODIFIED:20240209T175654Z
UID:15815-1707505200-1707505200@www.robertplane.com
SUMMARY:Music in the Round: Sheffield
DESCRIPTION:Charles Koechlin: Trio d’anches\, op. 206Henri Tomasi: ÉvocationsWitold Lutosławski: Trio for Oboe\, Clarinet and BassoonFrancis Poulenc: Sonata for Clarinet and Bassoon\, FP 32aJacques Ibert: Cinq pièces en trio
URL:https://www.robertplane.com/concert/music-in-the-round-sheffield-6/
LOCATION:Upper Chapel\, Norfolk Street\, Sheffield\, S1 2JD\, England
ATTACH;FMTTYPE=image/jpeg:https://www.robertplane.com/wp-content/uploads/2023/12/Adrian-Wilson-oboe-Smed-isxzwp.tmp_.jpg
END:VEVENT
BEGIN:VEVENT
DTSTART;TZID=Europe/London:20240209T130000
DTEND;TZID=Europe/London:20240209T130000
DTSTAMP:20260420T142143
CREATED:20231201T150707Z
LAST-MODIFIED:20240209T175652Z
UID:15792-1707483600-1707483600@www.robertplane.com
SUMMARY:Music in the Round: Sheffield
DESCRIPTION:Charles Koechlin: Trio d’anches\, op. 206Henri Tomasi: ÉvocationsWitold Lutosławski: Trio for Oboe\, Clarinet and BassoonFrancis Poulenc: Sonata for Clarinet and Bassoon\, FP 32aJacques Ibert: Cinq pièces en trio
URL:https://www.robertplane.com/concert/music-in-the-round-sheffield-5/
LOCATION:Upper Chapel\, Norfolk Street\, Sheffield\, S1 2JD\, England
ATTACH;FMTTYPE=image/jpeg:https://www.robertplane.com/wp-content/uploads/2023/12/Adrian-Wilson-oboe-Smed-isxzwp.tmp_.jpg
END:VEVENT
BEGIN:VEVENT
DTSTART;TZID=Europe/London:20240202T190000
DTEND;TZID=Europe/London:20240202T190000
DTSTAMP:20260420T142143
CREATED:20231201T150707Z
LAST-MODIFIED:20240202T172513Z
UID:15791-1706900400-1706900400@www.robertplane.com
SUMMARY:Wells Cathedral School: Somerset
DESCRIPTION:Carl Maria von Weber: Grand Duo Concertant\, op. 48\nJohannes Brahms: Sonata in F minor\, op. 120\, no. 1\nInterval\nIgor Stravinsky: 3 pieces for solo clarinet\nPamela Harrison: Drifting Away for clarinet and piano\nPaquito D’Rivera: The Cape Cod Files
URL:https://www.robertplane.com/concert/wells-cathedral-school-somerset/
LOCATION:Cedars Hall\, Wells Cathedral School\, The Liberty\, Wells\, Somerset\, BA5 2ST\, England
ATTACH;FMTTYPE=image/jpeg:https://www.robertplane.com/wp-content/uploads/2024/02/robert-plane_Ref_69_Please_credit_Jake_Morley-SMed-1-D3OHaO.tmp_.jpg
END:VEVENT
BEGIN:VEVENT
DTSTART;TZID=Europe/London:20240128T110000
DTEND;TZID=Europe/London:20240128T110000
DTSTAMP:20260420T142143
CREATED:20231201T150707Z
LAST-MODIFIED:20240128T165710Z
UID:15790-1706439600-1706439600@www.robertplane.com
SUMMARY:Harrogate International Festival: Harrogate
DESCRIPTION:Witold Lutoslawski: Dance Preludes\nPamela Harrison: Drifting Away for clarinet and piano\nJohannes Brahms: Sonata in F minor\, op. 120\, no. 1\nInterval\nEleanor Alberga: Duo from Dancing with the Shadow\nJosef Holbrooke: Eilean Shona op.74 and selection from Mezzo-Tints\, op. 55\nPaquito D’Rivera: The Cape Cod Files
URL:https://www.robertplane.com/concert/harrogate-international-festival-harrogate/
LOCATION:Old Swan Hotel\, Swan Road\, Harrogate\, HG1 2SR\, England
ATTACH;FMTTYPE=image/jpeg:https://www.robertplane.com/wp-content/uploads/2023/11/Robert_Plane_and_Tim_Horton_Ref-029_please_credit_Andrei_Luca_Landscape-SMed-1-WUkd23.tmp_.jpg
END:VEVENT
BEGIN:VEVENT
DTSTART;TZID=Europe/London:20240120T150000
DTEND;TZID=Europe/London:20240120T150000
DTSTAMP:20260420T142143
CREATED:20231201T150707Z
LAST-MODIFIED:20240120T161044Z
UID:15789-1705762800-1705762800@www.robertplane.com
SUMMARY:Music in the Round: East Riding of Yorkshire
DESCRIPTION:Claude Debussy: Première Rhapsodie\nEdwin York Bowen: Clarinet Sonata\, op. 109\nPamela Harrison: Drifting Away for clarinet and piano\nCarl Maria von Weber: Grand Duo Concertant\, op. 48
URL:https://www.robertplane.com/concert/music-in-the-round-east-riding-of-yorkshire-2/
LOCATION:Junction Goole\, Paradise Place\, East Riding of Yorkshire\, DN14 5DL\, England
ATTACH;FMTTYPE=image/jpeg:https://www.robertplane.com/wp-content/uploads/2023/11/Robert_Plane_and_Tim_Horton_Ref-029_please_credit_Andrei_Luca_Landscape-SMed-1-WUkd23.tmp_.jpg
END:VEVENT
BEGIN:VEVENT
DTSTART;TZID=Europe/London:20231130T191500
DTEND;TZID=Europe/London:20231130T191500
DTSTAMP:20260420T142143
CREATED:20231113T090929Z
LAST-MODIFIED:20231130T162117Z
UID:15494-1701371700-1701371700@www.robertplane.com
SUMMARY:Music in the Round: Sheffield
DESCRIPTION:Louis Spohr: Nonet in F Major\, op. 31Franz Schubert: Octet in F major\, D. 803
URL:https://www.robertplane.com/concert/music-in-the-round-sheffield-2/
LOCATION:Crucible Playhouse\, Crucible Theatre\, Sheffield\, S1 1DA\, England
ATTACH;FMTTYPE=image/png:https://www.robertplane.com/wp-content/uploads/2022/04/Ensemble-360-Logo-SzsGWV.tmp_.png
END:VEVENT
BEGIN:VEVENT
DTSTART;TZID=Europe/London:20231120T193000
DTEND;TZID=Europe/London:20231120T193000
DTSTAMP:20260420T142143
CREATED:20231113T090929Z
LAST-MODIFIED:20231120T161448Z
UID:15492-1700508600-1700508600@www.robertplane.com
SUMMARY:Music in the Round: Hampshire
DESCRIPTION:Sergey Rachmaninov: Trio Élégiaque no. 1 in G minor\nSergei Prokofiev: Quintet in G minor\, op. 39\nInterval\nSergei Prokofiev: Overture on Hebrew Themes\, op. 34\nPyotr Il’yich Tchaikovsky: Quartet no. 2 in F major\, op. 22
URL:https://www.robertplane.com/concert/music-in-the-round-hampshire/
LOCATION:Portsmouth Guildhall\, Guildhall Square\, Hampshire\, PO1 2AB\, England
ATTACH;FMTTYPE=image/png:https://www.robertplane.com/wp-content/uploads/2022/04/Ensemble-360-Logo-SzsGWV.tmp_.png
END:VEVENT
BEGIN:VEVENT
DTSTART;TZID=Europe/London:20231118T193000
DTEND;TZID=Europe/London:20231118T193000
DTSTAMP:20260420T142143
CREATED:20231113T090929Z
LAST-MODIFIED:20231118T155520Z
UID:15490-1700335800-1700335800@www.robertplane.com
SUMMARY:The Lakeland Sinfonia Concert Society: Kendal
DESCRIPTION:Wolfgang Amadeus Mozart: Clarinet Concerto in A major\, K. 622Gioachino Rossini: Introduction\, Theme and Variations for Clarinet and Orchestra
URL:https://www.robertplane.com/concert/the-lakeland-sinfonia-concert-society-kendal/
LOCATION:Kendal Parish Church\, Kirkland\, Kendal\, LA9 5AF\, England
ATTACH;FMTTYPE=image/jpeg:https://www.robertplane.com/wp-content/uploads/2020/11/robert-26-Y84Et0.tmp_.jpg
END:VEVENT
BEGIN:VEVENT
DTSTART;TZID=Europe/London:20231117T193000
DTEND;TZID=Europe/London:20231117T193000
DTSTAMP:20260420T142143
CREATED:20231113T090928Z
LAST-MODIFIED:20231117T154402Z
UID:15487-1700249400-1700249400@www.robertplane.com
SUMMARY:East Devon Music: Devon
DESCRIPTION:Claude Debussy: Première RhapsodiePamela Harrison: Sonata for violin and pianoDarius Milhaud: Suite for violin\, clarinet and piano\, op. 157bIntervalGabriel Fauré: Sonata no. 1 in A major\, op. 13Pamela Harrison: Drifting Away for clarinet and pianoTibor Serly: Chamber Folk Music for clarinet\, violin and piano
URL:https://www.robertplane.com/concert/east-devon-music-devon/
LOCATION:Beehive Honiton\, Dowell Street\, Honiton\, Devon\, EX14 1LZ\, England
ATTACH;FMTTYPE=image/jpeg:https://www.robertplane.com/wp-content/uploads/2023/04/GouldPlaneFrith-image-website-SaNz7W.tmp_.jpg
END:VEVENT
BEGIN:VEVENT
DTSTART;TZID=Europe/London:20231116T190000
DTEND;TZID=Europe/London:20231116T190000
DTSTAMP:20260420T142143
CREATED:20231113T090927Z
LAST-MODIFIED:20231116T153627Z
UID:15483-1700161200-1700161200@www.robertplane.com
SUMMARY:Music in the Round: East Riding of Yorkshire
DESCRIPTION:Max Bruch: Selection from 8 Pieces for clarinet\, viola and piano\, op. 83\nRobert Schumann: Fantasiestücke\, op. 73\nWolfgang Amadeus Mozart: Trio for Clarinet\, Viola and Piano in E flat\, K. 498\, Kegelstatt
URL:https://www.robertplane.com/concert/music-in-the-round-east-riding-of-yorkshire/
LOCATION:Junction Goole\, Paradise Place\, East Riding of Yorkshire\, DN14 5DL\, England
ATTACH;FMTTYPE=image/jpeg:https://www.robertplane.com/wp-content/uploads/2023/11/Trio_Meister_Raro_Ref-197_please_credit_Andrei_Luca-CR-bcFI6c.tmp_.jpg
END:VEVENT
BEGIN:VEVENT
DTSTART;TZID=Europe/London:20231109T193000
DTEND;TZID=Europe/London:20231109T193000
DTSTAMP:20260420T142143
CREATED:20231008T190337Z
LAST-MODIFIED:20231010T193214Z
UID:15472-1699558200-1699558200@www.robertplane.com
SUMMARY:Carlisle Music Society:  Carlisle
DESCRIPTION:Max Bruch: Selection from 8 Pieces for clarinet\, viola and piano\, op. 83György Kurtág: Hommage à Robert Schumann\, op. 15dRobert Schumann: Märchenbilder\, op. 113IntervalRebecca Clarke: Prelude\, Allegro and PastoraleWolfgang Amadeus Mozart: Trio for Clarinet\, Viola and Piano in E flat\, K. 498\, Kegelstatt
URL:https://www.robertplane.com/concert/carlisle-music-society-carlisle-2/
LOCATION:The Fratry\, Carlisle Cathedral\, 7 Abbey Street\, Carlisle\, CA3 8TZ\, England
ATTACH;FMTTYPE=image/jpeg:https://www.robertplane.com/wp-content/uploads/2023/03/Rachel_Roberts_ref_KIK06024_Please_credit_Kaupo_Kikkas-2NmW9r.tmp_.jpg
END:VEVENT
BEGIN:VEVENT
DTSTART;TZID=Europe/London:20231109T193000
DTEND;TZID=Europe/London:20231109T193000
DTSTAMP:20260420T142143
CREATED:20231006T181350Z
LAST-MODIFIED:20231006T181353Z
UID:15428-1699558200-1699558200@www.robertplane.com
SUMMARY:Carlisle Music Society: Carlisle
DESCRIPTION:Max Bruch: Selection from 8 Pieces for clarinet\, viola and piano\, op. 83\nGyörgy Kurtág: Hommage à Robert Schumann\, op. 15d\nRobert Schumann: Märchenbilder\, op. 113\nInterval\nRebecca Clarke: Prelude\, Allegro and Pastorale\nWolfgang Amadeus Mozart: Trio for Clarinet\, Viola and Piano in E flat\, K. 498\, Kegelstatt
URL:https://www.robertplane.com/concert/carlisle-music-society-carlisle/
ATTACH;FMTTYPE=image/jpeg:https://www.robertplane.com/wp-content/uploads/2022/09/Trio_Meister_Raro_Ref-075_please_credit_Andrei_Luca-1-ekCQPG.tmp_.jpg
END:VEVENT
BEGIN:VEVENT
DTSTART;VALUE=DATE:20231108
DTEND;VALUE=DATE:20231109
DTSTAMP:20260420T142143
CREATED:20231006T181350Z
LAST-MODIFIED:20231010T193214Z
UID:15427-1699401600-1699487999@www.robertplane.com
SUMMARY:Kirker Holidays and Chamber Music Weekends: East Sussex
DESCRIPTION:As part of the The Kirker Music Festival at The Star\, Alfriston \nWolfgang Amadeus Mozart: Igor Stravinsky: 3 pieces for clarinet soloArthur Bliss: Quintet for Clarinet and String QuartetClaude Debussy: Quartet in G Minor\, op. 10
URL:https://www.robertplane.com/concert/kirker-holidays-and-chamber-music-weekends-east-sussex/
LOCATION:Old Chapel Centre\, Alfriston\, The Tye Road\, Alfriston\, East Sussex\, BN26 5TL\, England
ATTACH;FMTTYPE=image/jpeg:https://www.robertplane.com/wp-content/uploads/2020/06/Robert-Plane_Ref_019_2019_Please_Credit_Sara_Porter_www.saraporterphotography.co_.uk_-aGNeGP.tmp_.jpg
END:VEVENT
BEGIN:VEVENT
DTSTART;TZID=Europe/London:20231021T193000
DTEND;TZID=Europe/London:20231021T193000
DTSTAMP:20260420T142143
CREATED:20231006T181350Z
LAST-MODIFIED:20231010T193214Z
UID:15426-1697916600-1697916600@www.robertplane.com
SUMMARY:Richmondshire Concerts: Richmond
DESCRIPTION:Max Bruch: 3 pieces from 8 Pieces for Clarinet\, Viola and Piano\, op. 83György Kurtág: Hommage à Robert Schumann\, op. 15dRobert Schumann: Märchenbilder\, op. 113IntervalRebecca Clarke: Prelude\, Allegro and PastoraleWolfgang Amadeus Mozart: Trio for Clarinet\, Viola and Piano in E flat\, K. 498\, Kegelstatt
URL:https://www.robertplane.com/concert/richmondshire-concerts-richmond/
LOCATION:Richmond School\, Darlington Road\, Richmond\, DL10 7BQ\, England
ATTACH;FMTTYPE=image/jpeg:https://www.robertplane.com/wp-content/uploads/2022/09/Trio_Meister_Raro_Ref-075_please_credit_Andrei_Luca-1-ekCQPG.tmp_.jpg
END:VEVENT
BEGIN:VEVENT
DTSTART;TZID=Europe/London:20231014T193000
DTEND;TZID=Europe/London:20231014T193000
DTSTAMP:20260420T142143
CREATED:20231006T181349Z
LAST-MODIFIED:20231010T193214Z
UID:15425-1697311800-1697311800@www.robertplane.com
SUMMARY:Music in the Round: Kent
DESCRIPTION:Josef Suk: Meditation on an Old Czech Hymn ‘St Wenceslas’\, op. 35aSamuel Coleridge-Taylor: Clarinet Quintet in F sharp minor\, op. 10IntervalHerbert Howells: Rhapsodic Quintet\, op\, 31Antonin Dvořák: Quartet no. 12 in F major\, op. 96\, B. 179\, American
URL:https://www.robertplane.com/concert/music-in-the-round-kent/
LOCATION:St. Peter and St. Paul’s Church\, Tonbridge\, 155 Church Lane\, Tonbridge\, Kent\, TN9 1DA\, England
ATTACH;FMTTYPE=image/png:https://www.robertplane.com/wp-content/uploads/2022/04/Ensemble-360-Logo-SzsGWV.tmp_.png
END:VEVENT
BEGIN:VEVENT
DTSTART;TZID=Europe/London:20231006T190000
DTEND;TZID=Europe/London:20231006T190000
DTSTAMP:20260420T142143
CREATED:20230809T083543Z
LAST-MODIFIED:20231006T181354Z
UID:14776-1696618800-1696618800@www.robertplane.com
SUMMARY:Music in the Round: Sheffield
DESCRIPTION:Praised by International Record Review as “an eloquent and impassioned clarinettist [whose] playing is full-blooded and committed”\, Robert Plane\, the newest member of Ensemble 360\, has been a remarkable addition to this highly regarded Ensemble. \nDebussy’s impressionistic Premiere rhapsodie\, performed by Rob and pianist Tim Horton\, moves from a dreamy opening to a virtuosic conclusion. The pair will also perform Drifting Away\, the work of Pamela Harrison\, an often overlooked English composer who Rob has done much to champion. The concert concludes with Weber’s celebrated duo marked by soaring melodies and dazzling cadenzas. \nPOST-CONCERT TALK Free.\nTicket holders are invited to stay for an informal talk from Rob about Pamela Harrison\, who features in the concert. \nClaude Debussy: Première Rhapsodie\nEdwin York Bowen: Clarinet Sonata\, op. 109\nPamela Harrison: Drifting Away for clarinet and piano\nCarl Maria von Weber: Grand Duo Concertant\, op. 48
URL:https://www.robertplane.com/concert/music-in-the-round-sheffield-4/
LOCATION:Upper Chapel\, Norfolk Street\, Sheffield\, S1 2JD\, England
ATTACH;FMTTYPE=image/jpeg:https://www.robertplane.com/wp-content/uploads/2023/08/Robert_Plane_and_Tim_Horton_Ref-029_please_credit_Andrei_Luca-landscapesm-JVj8t6.tmp_.jpg
END:VEVENT
BEGIN:VEVENT
DTSTART;TZID=Europe/London:20231006T130000
DTEND;TZID=Europe/London:20231006T130000
DTSTAMP:20260420T142143
CREATED:20230809T083543Z
LAST-MODIFIED:20231006T181352Z
UID:14775-1696597200-1696597200@www.robertplane.com
SUMMARY:Music in the Round: Sheffield
DESCRIPTION:Praised by International Record Review as “an eloquent and impassioned clarinettist [whose] playing is full-blooded and committed”\, Robert Plane\, the newest member of Ensemble 360\, has been a remarkable addition to this highly regarded Ensemble. \nDebussy’s impressionistic Premiere rhapsodie\, performed by Rob and pianist Tim Horton\, moves from a dreamy opening to a virtuosic conclusion. The pair will also perform Drifting Away\, the work of Pamela Harrison\, an often overlooked English composer who Rob has done much to champion. The concert concludes with Weber’s celebrated duo marked by soaring melodies and dazzling cadenzas. \nClaude Debussy: Première Rhapsodie\nEdwin York Bowen: Clarinet Sonata\, op. 109\nPamela Harrison: Drifting Away for clarinet and piano\nCarl Maria von Weber: Grand Duo Concertant\, op. 48
URL:https://www.robertplane.com/concert/music-in-the-round-sheffield-3/
LOCATION:Upper Chapel\, Norfolk Street\, Sheffield\, S1 2JD\, England
ATTACH;FMTTYPE=image/jpeg:https://www.robertplane.com/wp-content/uploads/2023/10/Tim_Horton_and_Robert_Plane_Ref-115_please_credit_Andrei_Luca-Bidyrn.tmp_.jpg
END:VEVENT
BEGIN:VEVENT
DTSTART;TZID=Europe/London:20230930T190000
DTEND;TZID=Europe/London:20230930T190000
DTSTAMP:20260420T142143
CREATED:20230809T083542Z
LAST-MODIFIED:20230930T135642Z
UID:14761-1696100400-1696100400@www.robertplane.com
SUMMARY:Music in the Round: Sheffield
DESCRIPTION:Doráti: Duo Concertane Ligeti: Selection of Études (Touches bloquées; Arc-en-ciel; Der Zauberlehrling)Lutos?awski: Dance Preludes for Clarinet and Piano Farkas: Five Antique Hungarian Dances Ligeti: Ten Pieces
URL:https://www.robertplane.com/concert/music-in-the-round-sheffield/
LOCATION:Upper Chapel\, Norfolk Street\, Sheffield\, S1 2JD\, England
ATTACH;FMTTYPE=image/png:https://www.robertplane.com/wp-content/uploads/2022/04/Ensemble-360-Logo-SzsGWV.tmp_.png
END:VEVENT
BEGIN:VEVENT
DTSTART;VALUE=DATE:20230925
DTEND;VALUE=DATE:20230928
DTSTAMP:20260420T142143
CREATED:20230809T083542Z
LAST-MODIFIED:20230925T133301Z
UID:14760-1695600000-1695859199@www.robertplane.com
SUMMARY:Callino Festival at Dartington: Devon
DESCRIPTION:Callino EnsembleTom Hankey & Magnus Johnston – violin\, Rebecca Jones – viola\, Sarah McMahon & Laura Van der Heijden – cello\,  David Stark – Double Bass\, Jâms Coleman – piano\, Robert Plane – clarinet \nTo include (Robert Plane): \nBoldComposerJohannes Brahms: Trio for Clarinet\, Cello and Piano in A minor\, op. 114Herbert Howells: Rhapsodic Quintet\, op\, 31Wolfgang Amadeus Mozart\, arr. Mordechai Rechtman: Divertimento in E flat major\, KV. 439b\, no. 1Igor Stravinsky: The Soldier’s TaleJörg Widmann: Fantasie for Clarinet SoloJohn Woolrich: A Farewell\, for Clarinet\, Viola and Piano
URL:https://www.robertplane.com/concert/callino-festival-at-dartington-devon/
LOCATION:The Great Hall\, Dartington\, Dartington Trust\, Totnes\, Devon\, TQ9 6EL\, England
ATTACH;FMTTYPE=image/jpeg:https://www.robertplane.com/wp-content/uploads/2020/06/robert-plane-631-39QVvc.tmp_.jpg
ORGANIZER;CN="Callino Festival at Dartington":MAILTO:enquiries@whibley.co.uk
END:VEVENT
BEGIN:VEVENT
DTSTART;TZID=Europe/London:20230909T190000
DTEND;TZID=Europe/London:20230909T190000
DTSTAMP:20260420T142143
CREATED:20230816T134528Z
LAST-MODIFIED:20230909T135138Z
UID:14861-1694286000-1694286000@www.robertplane.com
SUMMARY:Ironstone Chamber Music Festival: Oxfordshire
DESCRIPTION:With Lucy Gould – Violin\, Jonathan Stone – Violin\, Meghan Cassidy – Viola\, and Kate Gould – Cello \nJohannes Brahms: Clarinet Quintet in B minor\, op. 115Benjamin Britten: Three DivertimentiFranz Joseph Haydn: Quartet no. 61 in D Minor\, op. 76\, no. 2\, Hob. III:76\, Fifths
URL:https://www.robertplane.com/concert/ironstone-chamber-music-festival-oxfordshire-3/
LOCATION:St Etheldreda’s Church\, Banbury\, Little Lane\, Horley\, Near Banbury\, Oxfordshire\, OX15 6BJ\, England
ATTACH;FMTTYPE=image/jpeg:https://www.robertplane.com/wp-content/uploads/2020/11/robert-26-Y84Et0.tmp_.jpg
ORGANIZER;CN="Ironstone Chamber Music Festival":MAILTO:howelltessa@hotmail.co.uk
END:VEVENT
BEGIN:VEVENT
DTSTART;VALUE=DATE:20230908
DTEND;VALUE=DATE:20230909
DTSTAMP:20260420T142143
CREATED:20230816T134528Z
LAST-MODIFIED:20230908T134420Z
UID:14860-1694131200-1694217599@www.robertplane.com
SUMMARY:Ironstone Chamber Music Festival: Oxfordshire
DESCRIPTION:With Lucy Gould – Violin\, Jonathan Stone – Violin\, Meghan Cassidy – Viola\, and Kate Gould – Cello \nLudwig van Beethoven: Quartet no 3 in D major\, op. 18\, no. 3Samuel Coleridge-Taylor: Clarinet Quintet in F sharp minor\, op. 10Felix Mendelssohn:
URL:https://www.robertplane.com/concert/ironstone-chamber-music-festival-oxfordshire-2/
LOCATION:St Etheldreda’s Church\, Banbury\, Little Lane\, Horley\, Near Banbury\, Oxfordshire\, OX15 6BJ\, England
ATTACH;FMTTYPE=image/jpeg:https://www.robertplane.com/wp-content/uploads/2020/06/robert-104-TqF6je.tmp_.jpg
ORGANIZER;CN="Ironstone Chamber Music Festival":MAILTO:howelltessa@hotmail.co.uk
END:VEVENT
BEGIN:VEVENT
DTSTART;VALUE=DATE:20230907
DTEND;VALUE=DATE:20230909
DTSTAMP:20260420T142143
CREATED:20230809T083542Z
LAST-MODIFIED:20230907T134031Z
UID:14759-1694044800-1694217599@www.robertplane.com
SUMMARY:Ironstone Chamber Music Festival: Oxfordshire
DESCRIPTION:
URL:https://www.robertplane.com/concert/ironstone-chamber-music-festival-oxfordshire/
LOCATION:St Etheldreda’s Church\, Banbury\, Little Lane\, Horley\, Near Banbury\, Oxfordshire\, OX15 6BJ\, England
ATTACH;FMTTYPE=image/jpeg:https://www.robertplane.com/wp-content/uploads/2020/11/robert-26-Y84Et0.tmp_.jpg
ORGANIZER;CN="Ironstone Chamber Music Festival":MAILTO:howelltessa@hotmail.co.uk
END:VEVENT
BEGIN:VEVENT
DTSTART;TZID=Europe/London:20230830T160000
DTEND;TZID=Europe/London:20230830T160000
DTSTAMP:20260420T142143
CREATED:20230830T070015Z
LAST-MODIFIED:20230830T070015Z
UID:15004-1693411200-1693411200@www.robertplane.com
SUMMARY:Schubertiade Schwarzenberg
DESCRIPTION:Johannes Brahms: Clarinet Quintet in B minor\, op. 115IntervalFranz Schubert: Quartet in D minor\, D. 810 – Death and the Maiden
URL:https://www.robertplane.com/concert/schubertiade-schwarzenberg/
LOCATION:Angelika-Kauffmann-Saal\, Schwarzenberg\, Hof 454\, 6867 Schwarzenberg\, Austria
ATTACH;FMTTYPE=image/jpeg:https://www.robertplane.com/wp-content/uploads/2020/06/Robert-Plane_Ref_019_2019_Please_Credit_Sara_Porter_www.saraporterphotography.co_.uk_-aGNeGP.tmp_.jpg
END:VEVENT
BEGIN:VEVENT
DTSTART;TZID=Europe/London:20230828T190000
DTEND;TZID=Europe/London:20230828T190000
DTSTAMP:20260420T142143
CREATED:20230809T083543Z
LAST-MODIFIED:20230828T160707Z
UID:14774-1693249200-1693249200@www.robertplane.com
SUMMARY:Presteigne Festival: Powys
DESCRIPTION:Robert Plane (clarinet)\nMathilde Milwidsky (violin)\nGeorge Vass (conductor)\nPresteigne Festival Orchestra \nDavid Matthews: Three Birds and a Farewell\, Op. 118\nElectra Perivolaris: Mastiha\nRoxanna Panufnik: Four World Seasons\nSarah Frances Jenkins: The First Swallow\, for clarinet and string orchestra\nPyotr Il’yich Tchaikovsky: Serenade in C\, op. 48
URL:https://www.robertplane.com/concert/presteigne-festival-powys-2/
LOCATION:St Andrew’s Church\, Presteigne\, Broad Street\, Powys\, LD8 2AF\, Wales
ATTACH;FMTTYPE=image/jpeg:https://www.robertplane.com/wp-content/uploads/2023/07/Presteigne-Banner-e1688573125161-86KcBx.tmp_.jpg
ORGANIZER;CN="Presteigne Festival":MAILTO:bookings@presteignefestival.com
END:VEVENT
BEGIN:VEVENT
DTSTART;TZID=Europe/London:20230827T190000
DTEND;TZID=Europe/London:20230827T190000
DTSTAMP:20260420T142143
CREATED:20230809T083541Z
LAST-MODIFIED:20230827T154151Z
UID:14758-1693162800-1693162800@www.robertplane.com
SUMMARY:Presteigne Festival: Powys
DESCRIPTION:Robert Plane (clarinet)\nRachel Roberts (viola)\nChris Hopkins (piano) \nHuw Watkins: Speak Seven Seas\nJohn Hawkins: Urizen (for viola and piano)\nMichael Berkeley: Trio for clarinet\, viola and piano (world premiere)\nWitold Lutosławski: Dance Preludes\nWolfgang Amadeus Mozart: Trio for Clarinet\, Viola and Piano in E flat\, K. 498\, Kegelstatt
URL:https://www.robertplane.com/concert/presteigne-festival-powys/
LOCATION:St Andrew’s Church\, Presteigne\, Broad Street\, Powys\, LD8 2AF\, Wales
ATTACH;FMTTYPE=image/jpeg:https://www.robertplane.com/wp-content/uploads/2023/07/Presteigne-Banner-e1688573125161-86KcBx.tmp_.jpg
ORGANIZER;CN="Presteigne Festival":MAILTO:bookings@presteignefestival.com
END:VEVENT
BEGIN:VEVENT
DTSTART;TZID=Europe/London:20230825T190000
DTEND;TZID=Europe/London:20230825T190000
DTSTAMP:20260420T142143
CREATED:20230809T083541Z
LAST-MODIFIED:20230825T151542Z
UID:14757-1692990000-1692990000@www.robertplane.com
SUMMARY:North York Moors Chamber Music Festival: York
DESCRIPTION:Robert Schumann: Adagio and Allegro\, op. 70Claude Debussy: Première RhapsodieRobert Schumann: Märchenerzählungen\, op. 132Claude Debussy:: Le Cathédral EgloutieThomas Adès:: Three Berceuses from ‘The Exterminating Angel’Mark Simpson:: NachtstückOlivier Messiaen:: Appel Interstellaire for solo horn
URL:https://www.robertplane.com/concert/north-york-moors-chamber-music-festival-york/
LOCATION:St Mary’s\, Lastingham\, Lastingham\, York\, YO62 6TN\, England
ATTACH;FMTTYPE=image/jpeg:https://www.robertplane.com/wp-content/uploads/2020/06/Robert-Plane_Ref_022_2019_Please_Credit_Sara_Porter_www.saraporterphotography.co_.uk_-MN5MkX.tmp_.jpg
END:VEVENT
BEGIN:VEVENT
DTSTART;TZID=Europe/London:20230820T170000
DTEND;TZID=Europe/London:20230820T170000
DTSTAMP:20260420T142143
CREATED:20230809T083541Z
LAST-MODIFIED:20230820T135731Z
UID:14754-1692550800-1692550800@www.robertplane.com
SUMMARY:Music in the Round: Suffolk
DESCRIPTION:Frank Bridge: Quartet for Piano and Strings in F sharp minor\, H 94\, Phantasie\nFranz Schubert: Piano Quintet in A major\, D. 667\, The Trout\nInterval\nWitold Lutosławski: Dance Preludes\nBohuslav Martinů: Nonet for Wind Quintet\, Violin\, Viola\, Cello & Double Bass\, H. 374\nBenjamin Britten: Britten Sinfonietta\, Op. 1
URL:https://www.robertplane.com/concert/music-in-the-round-suffolk/
LOCATION:Snape Maltings\, Snape Maltings\,\, Suffolk\, IP17 1SP\, England
ATTACH;FMTTYPE=image/png:https://www.robertplane.com/wp-content/uploads/2022/04/Ensemble-360-Logo-SzsGWV.tmp_.png
END:VEVENT
BEGIN:VEVENT
DTSTART;TZID=Europe/London:20230818T190000
DTEND;TZID=Europe/London:20230818T190000
DTSTAMP:20260420T142143
CREATED:20230809T083541Z
LAST-MODIFIED:20230818T134918Z
UID:14753-1692385200-1692385200@www.robertplane.com
SUMMARY:North Norfolk Music Festival: Norfolk
DESCRIPTION:Finale concert of the 18th North Norfolk Music Festival. \nIgor Stravinsky: 3 pieces for clarinet solo\nWolfgang Amadeus Mozart: Clarinet Quintet in A major\, K. 581\nInterval\nCésar Franck: Piano Quintet in F minor
URL:https://www.robertplane.com/concert/north-norfolk-music-festival-norfolk/
LOCATION:St. Mary’s Church\, South Creake\, Fakenham\, Norfolk\, NR21 9LX\, England
ATTACH;FMTTYPE=image/png:https://www.robertplane.com/wp-content/uploads/2022/04/Ensemble-360-Logo-SzsGWV.tmp_.png
END:VEVENT
END:VCALENDAR